BEGIN:VCALENDAR
VERSION:2.0
METHOD:PUBLISH
BEGIN:VEVENT
DTSTART:20260509T193000Z
LOCATION:Dorfgemeinschaftshaus Boos
TRANSP: OPAQUE
SEQUENCE:0
UID:
DTSTAMP:20260421T181841Z
SUMMARY:Chorkonzert
DESCRIPTION:Mit Unterstützung des Chors des Theater- und Gesangvereins Heimertingen (Leitung Johannes Striegel und Anne Siebenmorgen-Emmons) bringen wir unter dem Motto „Du brauchst ein Lied …“bekannte Lieder aus Opern und Ohrwürmer wie „The Wellerman“, „Du hast den Farbfilm vergessen“etc. zur Aufführung.Als Gäste kommen der Schulchor (Leitung Walter Kößler) und die „Kischtaklopfer“ (Cajón-Gruppe – Leitung Reinhard Frauendorfer „Ginger“) der Volksschule Boos auf die Bühne.&nbsp;Eintritt: Kartenreservierungen zum Preis von 10 € unter folgender E-Mail-Adresse: Chorkonzert2026@gmail.com&nbsp;
PRIORITY:1
CLASS:PUBLIC
BEGIN:VALARM
TRIGGER:-PT10080M
ACTION:DISPLAY
DESCRIPTION:Reminder
END:VALARM
END:VEVENT
END:VCALENDAR
