BEGIN:VCALENDAR
VERSION:2.0
METHOD:PUBLISH
BEGIN:VEVENT
DTSTART:20260517T183000Z
LOCATION:Vorstadtkapelle St. Josef
TRANSP: OPAQUE
SEQUENCE:0
UID:
DTSTAMP:20260423T133745Z
SUMMARY:Saxophon &amp; Percussion &#8211; meditativ rhythmisch und rhythmisch meditativ
DESCRIPTION:Der Förderverein Kirchenmusik St. Georg – St. Maria Isny im Allgäu lädt am Sonntag, den 17. Mai 2026, um 18:30 Uhr zu einem außergewöhnlichen Konzert in die Vorstadtkapelle St. Josef mit dem Ensemble DUOKA ein. Das etwa 60-minütige Konzert verbindet meditative Klangräume mit rhythmischer Intensität und verspricht ein abwechslungsreiches Hörerlebnis. Der Eintritt zum Konzert ist frei, Spenden zugunsten der beiden Musiker werden erbeten.Das Ensemble DUOKA setzt sich mit dem Saxophonisten Christian Segmehl und dem Percussionisten Lars Rapp aus zwei herausragenden Musikern zusammen. Christian Segmehl lebt in Leutkirch im Allgäu und ist seit 2013 als freischaffender Saxophonist tätig. Er konzertiert mit [&hellip;]
PRIORITY:1
CLASS:PUBLIC
BEGIN:VALARM
TRIGGER:-PT10080M
ACTION:DISPLAY
DESCRIPTION:Reminder
END:VALARM
END:VEVENT
END:VCALENDAR
