BEGIN:VCALENDAR
VERSION:2.0
METHOD:PUBLISH
BEGIN:VEVENT
DTSTART:20260424T220000Z
LOCATION:Club Douala Ravensburg
TRANSP: OPAQUE
SEQUENCE:0
UID:
DTSTAMP:20260423T134147Z
SUMMARY:Ressurection
DESCRIPTION:WHAT IS COMING CAN’T BE STOPPED.@technocommunity_stuttgart | @resurrectionmtDiesen Freitag reißen wir Douala auseinander.Kein Zurück. Kein Halten. Nur Druck.ALMØSTHUMANSCHWARZ ICEBULØ · CHAØS · L.I.O.ØXENKRACHER · FAZIARGØN · ROTO · GOVIL.I.O. · XEZTCSHRYYGONZALEZTHIS FRIDAYVVK nur noch 80% – danach ist vorbei.TICKETLINK IN BIO @untilted_events24.04.2026 · 22:00DOUALASEE YOU IN THE DARK. 
PRIORITY:1
CLASS:PUBLIC
BEGIN:VALARM
TRIGGER:-PT10080M
ACTION:DISPLAY
DESCRIPTION:Reminder
END:VALARM
END:VEVENT
END:VCALENDAR
