BEGIN:VCALENDAR
VERSION:2.0
METHOD:PUBLISH
BEGIN:VEVENT
DTSTART:20260502T103000Z
LOCATION:St. Johann Evangelist Sigmaringen
TRANSP: OPAQUE
SEQUENCE:0
UID:
DTSTAMP:20260425T140815Z
SUMMARY:Orgelmusik zur Marktzeit
DESCRIPTION:Die beliebte Konzertreihe &#8222;Orgelmusik zur Marktzeit&#8220; wird fortgesetzt.Am Samstag, 2. Mai 2026 um 10:30 Uhr singt das Vokalensemble &#8222;Vocalissimo&#8220; unter der Leitung von Walltraud Marschall. An der Orgel begleitet Dina Trost.VocalissimoZehn ehemalige Sängerinnen der Mädchenkantorei Bad Saulgau hatten sich vor einigen Jahren anlässlich einer Jubiläumsfeier im Kloster Habsthal zusammengetan, um den Festgottesdienst musikalisch zu gestalten. Seither wird dieses Ensemble als klangvoller Frauenchor oft zu Konzerten und Gottesdiensten, Hochzeiten und gesellschaftlichen Anlässen in der näheren und weiteren Umgebung engagiert. Highlights waren Einladungen zu Konzerten in St. Peter in Wien, in der Stiftskirche in Klosterneuburg, sowie in St. Bartholomäus in Volkach und [&hellip;]
PRIORITY:1
CLASS:PUBLIC
BEGIN:VALARM
TRIGGER:-PT10080M
ACTION:DISPLAY
DESCRIPTION:Reminder
END:VALARM
END:VEVENT
END:VCALENDAR
