BEGIN:VCALENDAR
VERSION:2.0
METHOD:PUBLISH
BEGIN:VEVENT
DTSTART:20260502T140000Z
LOCATION:Salzgrotte Winterstetten
TRANSP: OPAQUE
SEQUENCE:0
UID:
DTSTAMP:20260425T141143Z
SUMMARY:Benefiz-Konzert und Flohmarkt
DESCRIPTION:Flohmarkt mit Spendenkonzert für Opfer von sexualisierter Gewalt.Musik: Ina KingMehr Infos auf dem Flyer
PRIORITY:1
CLASS:PUBLIC
BEGIN:VALARM
TRIGGER:-PT10080M
ACTION:DISPLAY
DESCRIPTION:Reminder
END:VALARM
END:VEVENT
END:VCALENDAR
