BEGIN:VCALENDAR
VERSION:2.0
METHOD:PUBLISH
BEGIN:VEVENT
DTSTART:20260506T100000Z
LOCATION:Hochschule Kempten
TRANSP: OPAQUE
SEQUENCE:0
UID:
DTSTAMP:20260425T141421Z
SUMMARY:Allgäuer Hochschulmesse 2026
DESCRIPTION:Auf der Allgäuer Hochschulmesse 2026 kannst du dich umfassend über Studienmöglichkeiten, Karrierewege und Weiterbildungsoptionen informieren. Die Messe bietet dir die Gelegenheit, mit Studierenden, Lehrenden und zahlreichen Unternehmen ins Gespräch zu kommen und deinen persönlichen Bildungs- und Berufsweg zu planen.Die Hochschule Kempten lädt am Mittwoch, 6. Mai 2026, von 10:00 bis 16:00 Uhr auf ihren Campus ein.StudiumVor Ort erwarten dich unter anderem:• Informationen zu den Studienangeboten der Hochschule Kempten• Unterstützung bei Fragen zur Studienwahl, Bewerbung und Studienfinanzierung• Beratung und Unterstützungsangebote rund um das StudiumBerufDarüber hinaus hast du die Möglichkeit:• zahlreiche Unternehmen kennenzulernen• Einblicke in unterschiedliche Berufsfelder zu erhalten• Kontakte für Praktika, [&hellip;]
PRIORITY:1
CLASS:PUBLIC
BEGIN:VALARM
TRIGGER:-PT10080M
ACTION:DISPLAY
DESCRIPTION:Reminder
END:VALARM
END:VEVENT
END:VCALENDAR
