BEGIN:VCALENDAR
VERSION:2.0
METHOD:PUBLISH
BEGIN:VEVENT
DTSTART:20260502T193000Z
LOCATION:Komödienhaus Biberach
TRANSP: OPAQUE
SEQUENCE:0
UID:
DTSTAMP:20260425T140323Z
SUMMARY:Bandscheibenvorfall
DESCRIPTION:Kretzky, Hufschmidt, Schmitt, Kristensen und Kruse warten im Vorzimmer auf das alltägliche Gespräch beim Chef. Die Wartezeit verkürzen sie sich mit gezielter Desinformation, mit gegenseitigen Intrigen und schallenden Ohrfeigen. Der Aufstand wird geprobt – aber auch schnell wieder verworfen. Solidarität ist ein Fremdwort – nein, dann schon lieber das Spiel – wie mache ich meine/n Kolleg*in am besten fertig ohne dass jemand es merkt. “Bandscheibenvorfall“ ist eine absurd-komische Farce über das Leben moderner Angestellter und entwickelt im Lauf der Dinge doch Momente des Tiefgangs, der Trauer, der Liebe und einer Hoffnung darauf, dass es doch auch anders sein könnte.Ingrid Lausund [&hellip;]
PRIORITY:1
CLASS:PUBLIC
BEGIN:VALARM
TRIGGER:-PT10080M
ACTION:DISPLAY
DESCRIPTION:Reminder
END:VALARM
END:VEVENT
END:VCALENDAR
