BEGIN:VCALENDAR
VERSION:2.0
METHOD:PUBLISH
BEGIN:VEVENT
DTSTART:20260501T130000Z
LOCATION:Mobi Park Laupheim
TRANSP: OPAQUE
SEQUENCE:0
UID:
DTSTAMP:20260425T140653Z
SUMMARY:AusUfern 2026
DESCRIPTION:AusUfern 2026Am 01. Mai verwandelt sich der Mobi Park in den perfekten Spot für einen unvergesslichen TagVon 13:00 bis 22:30 Uhr heißt es: Sonne genießen, Drinks in der Hand und gute VibesMit dabei:Luke MillerMatt MyerDJ LokKommt vorbei zum Daydrinking, Tanzen &amp; AbschaltenWir freuen uns auf euch! — hier: Mobi Park.
PRIORITY:1
CLASS:PUBLIC
BEGIN:VALARM
TRIGGER:-PT10080M
ACTION:DISPLAY
DESCRIPTION:Reminder
END:VALARM
END:VEVENT
END:VCALENDAR
