BEGIN:VCALENDAR
VERSION:2.0
METHOD:PUBLISH
BEGIN:VEVENT
DTSTART:20260502T200000Z
LOCATION:evangelisches Gemeindehaus
TRANSP: OPAQUE
SEQUENCE:0
UID:
DTSTAMP:20260425T140643Z
SUMMARY:Lieblingslied &#8211; Vokal hoch 4
DESCRIPTION:Die a-capella-Gruppe Vokal⁴ (Vokal hoch vier&#8220;) lädt zu ihrem Konzert &#8222;Lieblingslied&#8220; in das evangelische Gemeindehaus in Oberstdorf ein und präsentiert Volkslieder in bunten Arrangements.&nbsp;Die im Oberallgäu bestens bekannten SängerInnen Verena Bertele (Sopran), Heike Glinka (Alt), Stefan Heidweiler (Tenor) und Michael Dreher (Bass) interpretieren gemeinsam mit dem Gitarristen Andreas Braunsch&nbsp;Ohrwurm-verdächtige Volkslieder und lassen sie in modernen und traditionellen Arrangements erklingen. Frühlingsgefühle garantiert!Der Eintritt ist frei, Spenden zur Deckung der Unkosten sind willkommen.
PRIORITY:1
CLASS:PUBLIC
BEGIN:VALARM
TRIGGER:-PT10080M
ACTION:DISPLAY
DESCRIPTION:Reminder
END:VALARM
END:VEVENT
END:VCALENDAR
