BEGIN:VCALENDAR
VERSION:2.0
METHOD:PUBLISH
BEGIN:VEVENT
DTSTART:20260502T193000Z
LOCATION:Stadtforum Bad Saulgau
TRANSP: OPAQUE
SEQUENCE:0
UID:
DTSTAMP:20260425T141815Z
SUMMARY:Theater &#8211; Kalter weißer Mann
DESCRIPTION:Komödie von Dietmar Jacobs und Moritz NetenjakobLandesbühne Rheinland-Pfalz / Schlosstheater NeuwiedIn der rasanten Komödie von Dietmar Jacobs und Moritz Netenjakob, inszeniert von Katharina Schmid, geht es vordergründig um die Turbulenzen bei einer Beerdigung. Gernot Steinfels, Patriarch einer Firma des alten deutschen Mittelstands, ist verstorben. Sein designierter 60jähriger Nachfolger richtet für das Unternehmen die Beisetzung aus. Doch sein Text auf der Schleife sorgt für heftige Irritation: „In tiefer Trauer. Deine Mitarbeiter“. Schnell hat der neue „alte weiße Mann“ an der Spitze nicht nur seine Marketing-Leiterin, den Social-Media-Chef und seine Sekretärin gegen sich, sondern auch die sehr selbstbewusste Praktikantin. Vor dem Theaterpublikum [&hellip;]
PRIORITY:1
CLASS:PUBLIC
BEGIN:VALARM
TRIGGER:-PT10080M
ACTION:DISPLAY
DESCRIPTION:Reminder
END:VALARM
END:VEVENT
END:VCALENDAR
