BEGIN:VCALENDAR
VERSION:2.0
METHOD:PUBLISH
BEGIN:VEVENT
DTSTART:20260503T103000Z
LOCATION:Kurgarten Bad Saulgau
TRANSP: OPAQUE
SEQUENCE:0
UID:
DTSTAMP:20260425T141020Z
SUMMARY:Konzert im Pavillon
DESCRIPTION:mit dem Musikverein Fulgenstadt
PRIORITY:1
CLASS:PUBLIC
BEGIN:VALARM
TRIGGER:-PT10080M
ACTION:DISPLAY
DESCRIPTION:Reminder
END:VALARM
END:VEVENT
END:VCALENDAR
