BEGIN:VCALENDAR
VERSION:2.0
METHOD:PUBLISH
BEGIN:VEVENT
DTSTART:20241020T090000Z
LOCATION:Festzelt beim MSC Bad Saulgau
TRANSP: OPAQUE
SEQUENCE:0
UID:
DTSTAMP:20260421T095627Z
SUMMARY:ROCKTOBERFEST mit Weißwurstfrühstück
DESCRIPTION:Einladung zum Oktoberfest mit WeißwurstfrühstückBITTE UM VORANMELDUNG DETAILS SIEHE TEXT !!!**Wann:** 20.10.24, ab 9:00 Uhr**Eintritt:** kostenlosFeiern Sie mit uns das traditionelle ROCKTOBERFEST! Genießen Sie ein köstliches Weißwurstfrühstück und erleben Sie Gemütlichkeit im Zelt**Highlights des Tages:**&#8211; Frische Weißwürste mit süßem Senf&#8211; Weißbier, Augustiner und vieles mehr..&#8211; Live Musik und super Unterhaltung&#8211; Gemütliches Beisammensein mit Freunden und Familie**Bitte bringt gute Laune mit und lasst uns gemeinsam feiern!**Um eine vorherige Anmeldung wird gebeten. unter :www.msc-bad-saulgau.de/aktivitaetenOderMSC-BAD-SAULGAU@GMX.DEOderWhatsApp unter : +491701859062Wir freuen uns auf Ihr KommenDAS TEAM VOM MSC BAD SAULGAU
PRIORITY:1
CLASS:PUBLIC
BEGIN:VALARM
TRIGGER:-PT10080M
ACTION:DISPLAY
DESCRIPTION:Reminder
END:VALARM
END:VEVENT
END:VCALENDAR
