BEGIN:VCALENDAR
VERSION:2.0
METHOD:PUBLISH
BEGIN:VEVENT
DTSTART:20241026T193000Z
LOCATION:Museum für zeitgenössische Kunst
TRANSP: OPAQUE
SEQUENCE:0
UID:
DTSTAMP:20260423T081912Z
SUMMARY:Konzert mit dem Günztaler Vocalensemble
DESCRIPTION:&#8222;Chormusik International &#8211; von der Klassik zur Moderne&#8220; Mehr Infos: https://www.mzk-diku.de   Anmeldung Karten im VVK zu 8 € unter Tel. 08333 8529 oder 0151 20736134, Abendkasse 10 €
PRIORITY:1
CLASS:PUBLIC
BEGIN:VALARM
TRIGGER:-PT10080M
ACTION:DISPLAY
DESCRIPTION:Reminder
END:VALARM
END:VEVENT
END:VCALENDAR
